BEGIN:VCALENDAR
VERSION:2.0
PRODID:-//Integrated Health Partners - ECPv6.15.20//NONSGML v1.0//EN
CALSCALE:GREGORIAN
METHOD:PUBLISH
X-WR-CALNAME:Integrated Health Partners
X-ORIGINAL-URL:https://www.integratedhealthpartners.net
X-WR-CALDESC:Events for Integrated Health Partners
REFRESH-INTERVAL;VALUE=DURATION:PT1H
X-Robots-Tag:noindex
X-PUBLISHED-TTL:PT1H
BEGIN:VTIMEZONE
TZID:America/Detroit
BEGIN:DAYLIGHT
TZOFFSETFROM:-0500
TZOFFSETTO:-0400
TZNAME:EDT
DTSTART:20230312T070000
END:DAYLIGHT
BEGIN:STANDARD
TZOFFSETFROM:-0400
TZOFFSETTO:-0500
TZNAME:EST
DTSTART:20231105T060000
END:STANDARD
BEGIN:DAYLIGHT
TZOFFSETFROM:-0500
TZOFFSETTO:-0400
TZNAME:EDT
DTSTART:20240310T070000
END:DAYLIGHT
BEGIN:STANDARD
TZOFFSETFROM:-0400
TZOFFSETTO:-0500
TZNAME:EST
DTSTART:20241103T060000
END:STANDARD
BEGIN:DAYLIGHT
TZOFFSETFROM:-0500
TZOFFSETTO:-0400
TZNAME:EDT
DTSTART:20250309T070000
END:DAYLIGHT
BEGIN:STANDARD
TZOFFSETFROM:-0400
TZOFFSETTO:-0500
TZNAME:EST
DTSTART:20251102T060000
END:STANDARD
END:VTIMEZONE
BEGIN:VEVENT
DTSTART;TZID=America/Detroit:20240918T080000
DTEND;TZID=America/Detroit:20240918T130000
DTSTAMP:20260423T134729
CREATED:20240119T214237Z
LAST-MODIFIED:20240829T185905Z
UID:2871-1726646400-1726664400@www.integratedhealthpartners.net
SUMMARY:IN-PERSON Care Management Collaborative (CMC)
DESCRIPTION:Free Event \nThis event is for IHP members only. \nTopic: Behavioral Health \n*An In-Person Behavioral Health Vendor Round Table will directly follow our CMC Meeting* \nThis event will be held at the IHP office. A snack and lunch will be provided. If you have any dietary restrictions\, please contact the IHP office at rainwatera@integratedhealthpartners.net \nThis nursing continuing professional development activity was approved by the Wisconsin Nurses Association\, an accredited approver by the American Nurses Credentialing Center’s Commission on Accreditation. \nTarget Audience: The intended audience for the meeting is care managers. Practice managers and billers are encouraged to participate in program update segment of the training. \nContact Allisyn at rainwatera@integratedhealthpartners.net with questions\, or call (269) 425-7110.
URL:https://www.integratedhealthpartners.net/event/in-person-care-management-collaborative-cmc-3/
LOCATION:Integrated Health Partners\, 77 E Michigan Ave. Suite 200\, Battle Creek\, MI\, 49017\, United States
END:VEVENT
END:VCALENDAR