BEGIN:VCALENDAR
VERSION:2.0
PRODID:-//Integrated Health Partners - ECPv6.15.20//NONSGML v1.0//EN
CALSCALE:GREGORIAN
METHOD:PUBLISH
X-WR-CALNAME:Integrated Health Partners
X-ORIGINAL-URL:https://www.integratedhealthpartners.net
X-WR-CALDESC:Events for Integrated Health Partners
REFRESH-INTERVAL;VALUE=DURATION:PT1H
X-Robots-Tag:noindex
X-PUBLISHED-TTL:PT1H
BEGIN:VTIMEZONE
TZID:America/Detroit
BEGIN:DAYLIGHT
TZOFFSETFROM:-0500
TZOFFSETTO:-0400
TZNAME:EDT
DTSTART:20240310T070000
END:DAYLIGHT
BEGIN:STANDARD
TZOFFSETFROM:-0400
TZOFFSETTO:-0500
TZNAME:EST
DTSTART:20241103T060000
END:STANDARD
BEGIN:DAYLIGHT
TZOFFSETFROM:-0500
TZOFFSETTO:-0400
TZNAME:EDT
DTSTART:20250309T070000
END:DAYLIGHT
BEGIN:STANDARD
TZOFFSETFROM:-0400
TZOFFSETTO:-0500
TZNAME:EST
DTSTART:20251102T060000
END:STANDARD
BEGIN:DAYLIGHT
TZOFFSETFROM:-0500
TZOFFSETTO:-0400
TZNAME:EDT
DTSTART:20260308T070000
END:DAYLIGHT
BEGIN:STANDARD
TZOFFSETFROM:-0400
TZOFFSETTO:-0500
TZNAME:EST
DTSTART:20261101T060000
END:STANDARD
END:VTIMEZONE
BEGIN:VEVENT
DTSTART;TZID=America/Detroit:20250115T080000
DTEND;TZID=America/Detroit:20250115T123000
DTSTAMP:20260419T192406
CREATED:20241029T145959Z
LAST-MODIFIED:20250109T190210Z
UID:4031-1736928000-1736944200@www.integratedhealthpartners.net
SUMMARY:Virtual ZOOM - Care Management Collaborative (CMC) - COPD and Asthma
DESCRIPTION:Topic: COPD and Asthma \nObjectives:  \n\nReview program updates\, resources\, and data to support patient engagement in care management.\nDiscuss the impact of Asthma/COPD on patients. Review symptoms\, treatment guidelines\, proper use of inhalers\, and programs to support patients and prevent exacerbation of Asthma/COPD.\nReview BCBSM care management program and resources for patients.\nDiscuss resources and programs available through Albion Health Care Alliance and identification of opportunities to collaborate with primary care practices.\n\n  \nRegister in advance using the Zoom link provided. \nClick on Register Now or the link below to register for course.\nhttps://us06web.zoom.us/meeting/register/tZwrf-yqrzsvHdNzwyM-SO0_hzquDJxEpizn \nThis nursing continuing professional development activity was approved by the Wisconsin Nurses Association\, an accredited approver by the American Nurses Credentialing Center’s Commission on Accreditation.
URL:https://www.integratedhealthpartners.net/event/virtual-zoom-care-management-collaborative-cmc-5/
END:VEVENT
END:VCALENDAR