BEGIN:VCALENDAR
VERSION:2.0
PRODID:-//Integrated Health Partners - ECPv6.15.20//NONSGML v1.0//EN
CALSCALE:GREGORIAN
METHOD:PUBLISH
X-WR-CALNAME:Integrated Health Partners
X-ORIGINAL-URL:https://www.integratedhealthpartners.net
X-WR-CALDESC:Events for Integrated Health Partners
REFRESH-INTERVAL;VALUE=DURATION:PT1H
X-Robots-Tag:noindex
X-PUBLISHED-TTL:PT1H
BEGIN:VTIMEZONE
TZID:America/Detroit
BEGIN:DAYLIGHT
TZOFFSETFROM:-0500
TZOFFSETTO:-0400
TZNAME:EDT
DTSTART:20240310T070000
END:DAYLIGHT
BEGIN:STANDARD
TZOFFSETFROM:-0400
TZOFFSETTO:-0500
TZNAME:EST
DTSTART:20241103T060000
END:STANDARD
BEGIN:DAYLIGHT
TZOFFSETFROM:-0500
TZOFFSETTO:-0400
TZNAME:EDT
DTSTART:20250309T070000
END:DAYLIGHT
BEGIN:STANDARD
TZOFFSETFROM:-0400
TZOFFSETTO:-0500
TZNAME:EST
DTSTART:20251102T060000
END:STANDARD
BEGIN:DAYLIGHT
TZOFFSETFROM:-0500
TZOFFSETTO:-0400
TZNAME:EDT
DTSTART:20260308T070000
END:DAYLIGHT
BEGIN:STANDARD
TZOFFSETFROM:-0400
TZOFFSETTO:-0500
TZNAME:EST
DTSTART:20261101T060000
END:STANDARD
END:VTIMEZONE
BEGIN:VEVENT
DTSTART;TZID=America/Detroit:20250108T083000
DTEND;TZID=America/Detroit:20250108T170000
DTSTAMP:20260419T211209
CREATED:20241029T145851Z
LAST-MODIFIED:20250109T135420Z
UID:4016-1736325000-1736355600@www.integratedhealthpartners.net
SUMMARY:Virtual ZOOM - Introduction to Team Based Care
DESCRIPTION:Objectives: \nThe Introduction to Team-Based Care course helps the learner better understand how to work in a multidisciplinary care team and in collaboration with the patient. Open to all members of the practice to gain foundational knowledge in Team-Based Care. Introduction to Team-Based Care will include:\n-Why\, What\, Who and How: Team-Based Care\n– Care Management Process\n– Outcomes and Triple AIM\n– Billing Applications \nRegister in advance using the Zoom link provided. \nClick the Register Now button or go to the link provided below:  \nhttps://us06web.zoom.us/meeting/register/tZ0pdOyvpzwvG9EyzV8obOiMIllp57U5CXHt
URL:https://www.integratedhealthpartners.net/event/virtual-zoom-introduction-to-team-based-care-10/
END:VEVENT
END:VCALENDAR