BEGIN:VCALENDAR
VERSION:2.0
PRODID:-//Integrated Health Partners - ECPv6.15.20//NONSGML v1.0//EN
CALSCALE:GREGORIAN
METHOD:PUBLISH
X-WR-CALNAME:Integrated Health Partners
X-ORIGINAL-URL:https://www.integratedhealthpartners.net
X-WR-CALDESC:Events for Integrated Health Partners
REFRESH-INTERVAL;VALUE=DURATION:PT1H
X-Robots-Tag:noindex
X-PUBLISHED-TTL:PT1H
BEGIN:VTIMEZONE
TZID:America/Detroit
BEGIN:DAYLIGHT
TZOFFSETFROM:-0500
TZOFFSETTO:-0400
TZNAME:EDT
DTSTART:20240310T070000
END:DAYLIGHT
BEGIN:STANDARD
TZOFFSETFROM:-0400
TZOFFSETTO:-0500
TZNAME:EST
DTSTART:20241103T060000
END:STANDARD
BEGIN:DAYLIGHT
TZOFFSETFROM:-0500
TZOFFSETTO:-0400
TZNAME:EDT
DTSTART:20250309T070000
END:DAYLIGHT
BEGIN:STANDARD
TZOFFSETFROM:-0400
TZOFFSETTO:-0500
TZNAME:EST
DTSTART:20251102T060000
END:STANDARD
BEGIN:DAYLIGHT
TZOFFSETFROM:-0500
TZOFFSETTO:-0400
TZNAME:EDT
DTSTART:20260308T070000
END:DAYLIGHT
BEGIN:STANDARD
TZOFFSETFROM:-0400
TZOFFSETTO:-0500
TZNAME:EST
DTSTART:20261101T060000
END:STANDARD
END:VTIMEZONE
BEGIN:VEVENT
DTSTART;TZID=America/Detroit:20250107T120000
DTEND;TZID=America/Detroit:20250107T133000
DTSTAMP:20260419T230100
CREATED:20241029T145855Z
LAST-MODIFIED:20250109T135259Z
UID:4026-1736251200-1736256600@www.integratedhealthpartners.net
SUMMARY:Virtual ZOOM - Medical Office Education (MOE) - Compliance
DESCRIPTION:Register in advance using the Zoom link provided. \nClick the Register Now button or go to the link provided below: \nhttps://us06web.zoom.us/meeting/register/tZckcO2hqDwuGtLFDm4CdLE6FQc9ro7g8sad
URL:https://www.integratedhealthpartners.net/event/virtual-zoom-medical-office-education-moe-9/
END:VEVENT
END:VCALENDAR