BEGIN:VCALENDAR
VERSION:2.0
PRODID:-//Integrated Health Partners - ECPv6.15.20//NONSGML v1.0//EN
CALSCALE:GREGORIAN
METHOD:PUBLISH
X-WR-CALNAME:Integrated Health Partners
X-ORIGINAL-URL:https://www.integratedhealthpartners.net
X-WR-CALDESC:Events for Integrated Health Partners
REFRESH-INTERVAL;VALUE=DURATION:PT1H
X-Robots-Tag:noindex
X-PUBLISHED-TTL:PT1H
BEGIN:VTIMEZONE
TZID:America/Detroit
BEGIN:DAYLIGHT
TZOFFSETFROM:-0500
TZOFFSETTO:-0400
TZNAME:EDT
DTSTART:20240310T070000
END:DAYLIGHT
BEGIN:STANDARD
TZOFFSETFROM:-0400
TZOFFSETTO:-0500
TZNAME:EST
DTSTART:20241103T060000
END:STANDARD
BEGIN:DAYLIGHT
TZOFFSETFROM:-0500
TZOFFSETTO:-0400
TZNAME:EDT
DTSTART:20250309T070000
END:DAYLIGHT
BEGIN:STANDARD
TZOFFSETFROM:-0400
TZOFFSETTO:-0500
TZNAME:EST
DTSTART:20251102T060000
END:STANDARD
BEGIN:DAYLIGHT
TZOFFSETFROM:-0500
TZOFFSETTO:-0400
TZNAME:EDT
DTSTART:20260308T070000
END:DAYLIGHT
BEGIN:STANDARD
TZOFFSETFROM:-0400
TZOFFSETTO:-0500
TZNAME:EST
DTSTART:20261101T060000
END:STANDARD
END:VTIMEZONE
BEGIN:VEVENT
DTSTART;TZID=America/Detroit:20250123T180000
DTEND;TZID=America/Detroit:20250123T193000
DTSTAMP:20260419T161259
CREATED:20241029T150114Z
LAST-MODIFIED:20250110T163003Z
UID:4048-1737655200-1737660600@www.integratedhealthpartners.net
SUMMARY:Virtual Zoom - Provider Education & Collaboration (PEC) CME - Decreasing Opioid/Substance Abuse\, Misuse and Overdose
DESCRIPTION:Topic: Decreasing Opioid/Substance Abuse\, Misuse and Overdose. \n  \nObjectives: \n• Identify factors related to opioid/substance abuse\, misuse and overdose.\n• Interpret current data related to opioid/substance abuse\, misuse and overdose.\n• Discuss opportunities and resources to decrease opioid and substance abuse\, misuse and overdose. \n  \nRegister in advance using the Zoom link provided. \nClick on Register Now or the link below to register for course. \nhttps://us06web.zoom.us/meeting/register/tZEpcOGrqjgtHdeHA0aIujd1xo_0Gwfh0pXG
URL:https://www.integratedhealthpartners.net/event/virtual-zoom-provider-education-collaboration-pec-cme-7/
END:VEVENT
END:VCALENDAR