BEGIN:VCALENDAR
VERSION:2.0
PRODID:-//Integrated Health Partners - ECPv6.15.20//NONSGML v1.0//EN
CALSCALE:GREGORIAN
METHOD:PUBLISH
X-WR-CALNAME:Integrated Health Partners
X-ORIGINAL-URL:https://www.integratedhealthpartners.net
X-WR-CALDESC:Events for Integrated Health Partners
REFRESH-INTERVAL;VALUE=DURATION:PT1H
X-Robots-Tag:noindex
X-PUBLISHED-TTL:PT1H
BEGIN:VTIMEZONE
TZID:America/Detroit
BEGIN:DAYLIGHT
TZOFFSETFROM:-0500
TZOFFSETTO:-0400
TZNAME:EDT
DTSTART:20250309T070000
END:DAYLIGHT
BEGIN:STANDARD
TZOFFSETFROM:-0400
TZOFFSETTO:-0500
TZNAME:EST
DTSTART:20251102T060000
END:STANDARD
BEGIN:DAYLIGHT
TZOFFSETFROM:-0500
TZOFFSETTO:-0400
TZNAME:EDT
DTSTART:20260308T070000
END:DAYLIGHT
BEGIN:STANDARD
TZOFFSETFROM:-0400
TZOFFSETTO:-0500
TZNAME:EST
DTSTART:20261101T060000
END:STANDARD
BEGIN:DAYLIGHT
TZOFFSETFROM:-0500
TZOFFSETTO:-0400
TZNAME:EDT
DTSTART:20270314T070000
END:DAYLIGHT
BEGIN:STANDARD
TZOFFSETFROM:-0400
TZOFFSETTO:-0500
TZNAME:EST
DTSTART:20271107T060000
END:STANDARD
END:VTIMEZONE
BEGIN:VEVENT
DTSTART;TZID=America/Detroit:20260423T180000
DTEND;TZID=America/Detroit:20260423T200000
DTSTAMP:20260423T061059
CREATED:20251203T161557Z
LAST-MODIFIED:20260402T162930Z
UID:10000448-1776967200-1776974400@www.integratedhealthpartners.net
SUMMARY:PCP Team
DESCRIPTION:IHP PCP Team – April 23\, 2026 \nSee flyer above for meeting information.
URL:https://www.integratedhealthpartners.net/event/pcp-team/
END:VEVENT
BEGIN:VEVENT
DTSTART;TZID=America/Detroit:20260428T083000
DTEND;TZID=America/Detroit:20260428T170000
DTSTAMP:20260423T061059
CREATED:20251216T142420Z
LAST-MODIFIED:20251216T142420Z
UID:10000459-1777365000-1777395600@www.integratedhealthpartners.net
SUMMARY:Introduction to Team Based Care
DESCRIPTION:Follow the link below to view the training flyer\, including date\, time\, registration link\, and objective:  \nIHP Introduction to Team Based Care training – April 28\, 2026
URL:https://www.integratedhealthpartners.net/event/introduction-to-team-based-care-4/
END:VEVENT
END:VCALENDAR